BEGIN:VCALENDAR
VERSION:2.0
PRODID:-//Funko On Wheels - ECPv6.15.20//NONSGML v1.0//EN
CALSCALE:GREGORIAN
METHOD:PUBLISH
X-WR-CALNAME:Funko On Wheels
X-ORIGINAL-URL:https://funkoonwheels.nl
X-WR-CALDESC:Evenementen voor Funko On Wheels
REFRESH-INTERVAL;VALUE=DURATION:PT1H
X-Robots-Tag:noindex
X-PUBLISHED-TTL:PT1H
BEGIN:VTIMEZONE
TZID:Europe/Amsterdam
BEGIN:DAYLIGHT
TZOFFSETFROM:+0100
TZOFFSETTO:+0200
TZNAME:CEST
DTSTART:20230326T010000
END:DAYLIGHT
BEGIN:STANDARD
TZOFFSETFROM:+0200
TZOFFSETTO:+0100
TZNAME:CET
DTSTART:20231029T010000
END:STANDARD
BEGIN:DAYLIGHT
TZOFFSETFROM:+0100
TZOFFSETTO:+0200
TZNAME:CEST
DTSTART:20240331T010000
END:DAYLIGHT
BEGIN:STANDARD
TZOFFSETFROM:+0200
TZOFFSETTO:+0100
TZNAME:CET
DTSTART:20241027T010000
END:STANDARD
BEGIN:DAYLIGHT
TZOFFSETFROM:+0100
TZOFFSETTO:+0200
TZNAME:CEST
DTSTART:20250330T010000
END:DAYLIGHT
BEGIN:STANDARD
TZOFFSETFROM:+0200
TZOFFSETTO:+0100
TZNAME:CET
DTSTART:20251026T010000
END:STANDARD
END:VTIMEZONE
BEGIN:VEVENT
DTSTART;TZID=Europe/Amsterdam:20241031T190000
DTEND;TZID=Europe/Amsterdam:20241031T190000
DTSTAMP:20260426T043948
CREATED:20240917T101442Z
LAST-MODIFIED:20241030T091432Z
UID:9930-1730401200-1730401200@funkoonwheels.nl
SUMMARY:Bingoween Night | 31 Oktober 2024 | Live stream
DESCRIPTION:🎃  \nBingoween: 31 oktober om 18.30 19.00 uur\n 🎃 \nBereid je voor op een spooktaculair avond vol plezier en prijzen tijdens onze Halloween Bingo Night! Deze griezelige bingo-avonden worden live uitgezonden op Twitch\, YouTube  TikTok en Instagram. Trek je Halloween-kostuum aan\, zet je griezelige hoed op en doe mee aan dit spookachtige spel! \n🗓️ Datum en Tijd: 31 oktober om 18.30 19.00 uur. Aanvang om 18.45 uur.\n📍 Locatie: Live op Twitch\, YouTube\, TikTok en Instagram van Funkoonwheels \n🎲 Zo kan jij winnen! \n1 rij vol: Alle getallen op één rij (van links naar rechts of andersom).\n2 rijen vol: Twee complete rijen op dezelfde kaart. ( Van boven naar beneden of andersom)\nVolle kaart: Alle getallen afgestreept op je kaart. \n🎉 Bonusprijs! Halloween In-Stijl \nStuur een foto van jezelf in Halloween-outfit tijdens de bingo-avond en maak kans op een EXTRA prijs! \n📜 Regels \nPrijs per kaart: €2\,-\nMaximaal aantal kaarten per persoon: 5\nAantal rondes: 4\nPrinten: Zorg ervoor dat je je bingokaarten voor elke ronde afdrukt. Bij elke nieuwe ronde kan je namelijk alle gekochte kaarten weer gebruiken. \n🕹️ Hoe Speel je?\nTyp “BINGO” in de chat zodra je bingo hebt.\nHebben meerdere mensen bingo? De dobbelsteen kiest wie als eerste mag kiezen. Het maakt niet uit wie het eerst “BINGO” typt vanwege internetsnelheid \n⚠️ Let op! \nTyp geen getallen in de chat om verwarring te voorkomen.\nRoep alleen “BINGO” als je echt bingo hebt.\nHoud je ordernummer bij de hand zodat wij sneller je kaart kunnen controleren.\nHoud het gezellig tijdens de stream en in de chat.\nWe wensen je veel plezier en veel geluk tijdens onze Halloween Bingo Night! 🕸️👻🎉 \nPrijzen! \nBestaan uit Funko Pop! figuren\, Loungefly producten\, Loz Building blocks en meer. \nDoe mee aan de Bingoween en pak je prijs op 31 oktober 2024! \nKoop hier jouw kaartje  \nBingo lot Halloween 31 Oktober
URL:https://funkoonwheels.nl/beurs/halloween-bingo-night-31-oktober-2024-live-stream/
LOCATION:Funko on wheels
ATTACH;FMTTYPE=image/webp:https://funkoonwheels.nl/wp-content/uploads/2024/09/Halloween-bingo-night-31-Oktober-1.webp
END:VEVENT
END:VCALENDAR